Workbook
Name AÑOS: Tablas!$S$4:$S$27
Name CATEGORIAS: OFFSET(Tablas!$K$3,1,0,COUNTA(Tablas!$K$4:$K$5000),1)
Name MESES: Tablas!$P$4:$P$15
Name TIPO_CLIENTES: OFFSET(Tablas!$M$3,1,0,COUNTA(Tablas!$M$4:$M$5000),1)

Sheet Resumen
B2: RESUMEN DE STOCK POR ROTACIÓN Y DÍAS DE INVENTARIO
D5: SEMÁFORO DE CONTROL DE INV | E5: Valores
D6: 1. ROJO | F6: 2. AMARILLO | H6: 3. VERDE | J6: 4. NEGRO | L6: Total NRO ITEMS | M6: Total %
B7: CATEGORÍA | C7: ABC ROTACIÓN | D7: NRO ITEMS | E7: % | F7: NRO ITEMS | G7: % | H7: NRO ITEMS | I7: % | J7: NRO ITEMS | K7: %
B8: 01 - BATERIAS | C8: A | D8: 2 | E8: 0.66666667 | G8: 0 | I8: 0 | J8: 1 | K8: 0.33333333 | L8: 3 | M8: 1
C9: B | D9: 2 | E9: 0.66666667 | G9: 0 | I9: 0 | J9: 1 | K9: 0.33333333 | L9: 3 | M9: 1
C10: C | D10: 3 | E10: 0.75 | F10: 1 | G10: 0.25 | I10: 0 | K10: 0 | L10: 4 | M10: 1
B11: Total 01 - BATERIAS | D11: 7 | E11: 0.7 | F11: 1 | G11: 0.1 | I11: 0 | J11: 2 | K11: 0.2 | L11: 10 | M11: 1
B12: 02 - BUJIAS | C12: A | D12: 1 | E12: 1 | G12: 0 | I12: 0 | K12: 0 | L12: 1 | M12: 1
C13: B | D13: 1 | E13: 1 | G13: 0 | I13: 0 | K13: 0 | L13: 1 | M13: 1
C14: C | D14: 1 | E14: 0.33333333 | F14: 1 | G14: 0.33333333 | I14: 0 | J14: 1 | K14: 0.33333333 | L14: 3 | M14: 1
B15: Total 02 - BUJIAS | D15: 3 | E15: 0.6 | F15: 1 | G15: 0.2 | I15: 0 | J15: 1 | K15: 0.2 | L15: 5 | M15: 1
B16: 03 - FILTROS | C16: A | D16: 2 | E16: 0.18181818 | F16: 2 | G16: 0.18181818 | H16: 3 | I16: 0.27272727 | J16: 4 | K16: 0.36363636 | L16: 11 | M16: 1
C17: B | D17: 3 | E17: 0.33333333 | F17: 1 | G17: 0.11111111 | H17: 2 | I17: 0.22222222 | J17: 3 | K17: 0.33333333 | L17: 9 | M17: 1
C18: C | D18: 7 | E18: 0.63636364 | F18: 1 | G18: 0.090909091 | H18: 1 | I18: 0.090909091 | J18: 2 | K18: 0.18181818 | L18: 11 | M18: 1
B19: Total 03 - FILTROS | D19: 12 | E19: 0.38709677 | F19: 4 | G19: 0.12903226 | H19: 6 | I19: 0.19354839 | J19: 9 | K19: 0.29032258 | L19: 31 | M19: 1
B20: 04 - FRENOS Y EMBRAGUES | C20: A | D20: 8 | E20: 0.5 | F20: 1 | G20: 0.0625 | H20: 2 | I20: 0.125 | J20: 5 | K20: 0.3125 | L20: 16 | M20: 1
C21: B | D21: 7 | E21: 0.5 | F21: 3 | G21: 0.21428571 | H21: 1 | I21: 0.071428571 | J21: 3 | K21: 0.21428571 | L21: 14 | M21: 1
C22: C | D22: 13 | E22: 0.8125 | G22: 0 | H22: 2 | I22: 0.125 | J22: 1 | K22: 0.0625 | L22: 16 | M22: 1
B23: Total 04 - FRENOS Y EMBRAGUES | D23: 28 | E23: 0.60869565 | F23: 4 | G23: 0.086956522 | H23: 5 | I23: 0.10869565 | J23: 9 | K23: 0.19565217 | L23: 46 | M23: 1
B24: 05 - COLISION | C24: A | D24: 32 | E24: 0.39506173 | F24: 18 | G24: 0.22222222 | H24: 15 | I24: 0.18518519 | J24: 16 | K24: 0.19753086 | L24: 81 | M24: 1
C25: B | D25: 34 | E25: 0.45333333 | F25: 10 | G25: 0.13333333 | H25: 12 | I25: 0.16 | J25: 19 | K25: 0.25333333 | L25: 75 | M25: 1
C26: C | D26: 71 | E26: 0.78888889 | F26: 4 | G26: 0.044444444 | H26: 5 | I26: 0.055555556 | J26: 10 | K26: 0.11111111 | L26: 90 | M26: 1
B27: Total 05 - COLISION | D27: 137 | E27: 0.55691057 | F27: 32 | G27: 0.1300813 | H27: 32 | I27: 0.1300813 | J27: 45 | K27: 0.18292683 | L27: 246 | M27: 1
B28: 06 - AMORTIGUADORES | C28: A | D28: 6 | E28: 0.33333333 | F28: 2 | G28: 0.11111111 | H28: 5 | I28: 0.27777778 | J28: 5 | K28: 0.27777778 | L28: 18 | M28: 1
C29: B | D29: 5 | E29: 0.33333333 | F29: 1 | G29: 0.066666667 | H29: 6 | I29: 0.4 | J29: 3 | K29: 0.2 | L29: 15 | M29: 1
C30: C | D30: 8 | E30: 0.47058824 | F30: 1 | G30: 0.058823529 | H30: 4 | I30: 0.23529412 | J30: 4 | K30: 0.23529412 | L30: 17 | M30: 1
B31: Total 06 - AMORTIGUADORES | D31: 19 | E31: 0.38 | F31: 4 | G31: 0.08 | H31: 15 | I31: 0.3 | J31: 12 | K31: 0.24 | L31: 50 | M31: 1
B32: 07 - PEDALES Y POSAPIES | C32: A | D32: 10 | E32: 0.47619048 | F32: 5 | G32: 0.23809524 | H32: 3 | I32: 0.14285714 | J32: 3 | K32: 0.14285714 | L32: 21 | M32: 1
C33: B | D33: 9 | E33: 0.5 | F33: 3 | G33: 0.16666667 | H33: 1 | I33: 0.055555556 | J33: 5 | K33: 0.27777778 | L33: 18 | M33: 1
C34: C | D34: 13 | E34: 0.61904762 | G34: 0 | H34: 2 | I34: 0.095238095 | J34: 6 | K34: 0.28571429 | L34: 21 | M34: 1
B35: Total 07 - PEDALES Y POSAPIES | D35: 32 | E35: 0.53333333 | F35: 8 | G35: 0.13333333 | H35: 6 | I35: 0.1 | J35: 14 | K35: 0.23333333 | L35: 60 | M35: 1
B36: 08 - ELECTRICO | C36: A | D36: 6 | E36: 0.25 | F36: 4 | G36: 0.16666667 | H36: 5 | I36: 0.20833333 | J36: 9 | K36: 0.375 | L36: 24 | M36: 1
C37: B | D37: 7 | E37: 0.33333333 | F37: 1 | G37: 0.047619048 | H37: 5 | I37: 0.23809524 | J37: 8 | K37: 0.38095238 | L37: 21 | M37: 1
C38: C | D38: 12 | E38: 0.54545455 | G38: 0 | H38: 4 | I38: 0.18181818 | J38: 6 | K38: 0.27272727 | L38: 22 | M38: 1
B39: Total 08 - ELECTRICO | D39: 25 | E39: 0.37313433 | F39: 5 | G39: 0.074626866 | H39: 14 | I39: 0.20895522 | J39: 23 | K39: 0.34328358 | L39: 67 | M39: 1
B40: 09 - PARTES DE MOTOR | C40: A | D40: 34 | E40: 0.51515152 | F40: 2 | G40: 0.03030303 | H40: 16 | I40: 0.24242424 | J40: 14 | K40: 0.21212121 | L40: 66 | M40: 1
C41: B | D41: 34 | E41: 0.53968254 | F41: 5 | G41: 0.079365079 | H41: 10 | I41: 0.15873016 | J41: 14 | K41: 0.22222222 | L41: 63 | M41: 1
C42: C | D42: 54 | E42: 0.69230769 | F42: 4 | G42: 0.051282051 | H42: 7 | I42: 0.08974359 | J42: 13 | K42: 0.16666667 | L42: 78 | M42: 1
B43: Total 09 - PARTES DE MOTOR | D43: 122 | E43: 0.58937198 | F43: 11 | G43: 0.053140097 | H43: 33 | I43: 0.15942029 | J43: 41 | K43: 0.19806763 | L43: 207 | M43: 1
...

Sheet Stock
B2: RESUMEN DE STOCK, MESES DE STOCK, ROTACIÓN Y SEMÁFOROS DE CONTROL
I4: SALIDAS
B5: COD PRODUCTO | C5: DESCRIPCIÓN | D5: CATEGORÍA | E5: UM | F5: LEAD TIME (DÍAS) | G5: COSTO UNIT | H5: STOCK | I5: ENE | J5: FEB | K5: MAR | L5: ABR | M5: MAY | N5: JUN | O5: JUL | P5: AGO | Q5: PROM 3 ULTIMOS MESES | R5: ABC ROTACIÓN | S5: DÍAS DE INVENTARIO | T5: VECES LEAD TIME | U5: SEMÁFORO DE CONTROL DE INV
B6: =IF(Tablas!B4="","",Tablas!B4) -> 300001 | C6: =IF(Tablas!C4="","",Tablas!C4) -> TIMON | D6: =IF(Tablas!D4="","",Tablas!D4) -> 05 - COLISION | E6: =IF(Tablas!E4="","",Tablas!E4) -> UN | F6: =IF(Tablas!F4="","",Tablas!F4) -> 14 | G6: =IF(Tablas!I4="","",Tablas!I4) -> 31 | H6: 4 | I6: =IF($B6="","",-SUMIFS(Tabla7[Cantidad],Tabla7[Código del producto],$B6,Tabla7[Tipo de movimiento],"SALIDA",Tabla7[Mes],I$5)) -> 0 | J6: =IF($B6="","",-SUMIFS(Tabla7[Cantidad],Tabla7[Código del producto],$B6,Tabla7[Tipo de movimiento],"SALIDA",Tabla7[Mes],J$5)) -> 0 | K6: =IF($B6="","",-SUMIFS(Tabla7[Cantidad],Tabla7[Código del producto],$B6,Tabla7[Tipo de movimiento],"SALIDA",Tabla7[Mes],K$5)) -> 0 | L6: =IF($B6="","",-SUMIFS(Tabla7[Cantidad],Tabla7[Código del producto],$B6,Tabla7[Tipo de movimiento],"SALIDA",Tabla7[Mes],L$5)) -> 0 | M6: =IF($B6="","",-SUMIFS(Tabla7[Cantidad],Tabla7[Código del producto],$B6,Tabla7[Tipo de movimiento],"SALIDA",Tabla7[Mes],M$5)) -> 18 | N6: =IF($B6="","",-SUMIFS(Tabla7[Cantidad],Tabla7[Código del producto],$B6,Tabla7[Tipo de movimiento],"SALIDA",Tabla7[Mes],N$5)) -> 17 | O6: =IF($B6="","",-SUMIFS(Tabla7[Cantidad],Tabla7[Código del producto],$B6,Tabla7[Tipo de movimiento],"SALIDA",Tabla7[Mes],O$5)) -> 0 | P6: =IF($B6="","",-SUMIFS(Tabla7[Cantidad],Tabla7[Código del producto],$B6,Tabla7[Tipo de movimiento],"SALIDA",Tabla7[Mes],P$5)) -> 0 | Q6: =IF($B6="","",IFERROR(AVERAGE(N6:P6),0)) -> 5.6666667 | R6: =IF($B6="","",IFERROR(VLOOKUP($B6,'ABC rotación'!$C:$G,5,0),"C")) -> C | S6: =IF($B6="","",IFERROR(H6/Q6*30,0)) -> 21.176471 | T6: =IF($B6="","",S6/F6) -> 1.512605 | U6: =IF($B6="","",VLOOKUP($T6,Tablas!$X$14:$Y$17,2,1)) -> 3. VERDE
B7: =IF(Tablas!B5="","",Tablas!B5) -> 300002 | C7: =IF(Tablas!C5="","",Tablas!C5) -> GOMA POSAPIE FT | D7: =IF(Tablas!D5="","",Tablas!D5) -> 11 - LLANTAS Y HULES | E7: =IF(Tablas!E5="","",Tablas!E5) -> UN | F7: =IF(Tablas!F5="","",Tablas!F5) -> 20 | G7: =IF(Tablas!I5="","",Tablas!I5) -> 9 | H7: 3 | I7: =IF($B7="","",-SUMIFS(Tabla7[Cantidad],Tabla7[Código del producto],$B7,Tabla7[Tipo de movimiento],"SALIDA",Tabla7[Mes],I$5)) -> 0 | J7: =IF($B7="","",-SUMIFS(Tabla7[Cantidad],Tabla7[Código del producto],$B7,Tabla7[Tipo de movimiento],"SALIDA",Tabla7[Mes],J$5)) -> 15 | K7: =IF($B7="","",-SUMIFS(Tabla7[Cantidad],Tabla7[Código del producto],$B7,Tabla7[Tipo de movimiento],"SALIDA",Tabla7[Mes],K$5)) -> 0 | L7: =IF($B7="","",-SUMIFS(Tabla7[Cantidad],Tabla7[Código del producto],$B7,Tabla7[Tipo de movimiento],"SALIDA",Tabla7[Mes],L$5)) -> 0 | M7: =IF($B7="","",-SUMIFS(Tabla7[Cantidad],Tabla7[Código del producto],$B7,Tabla7[Tipo de movimiento],"SALIDA",Tabla7[Mes],M$5)) -> 0 | N7: =IF($B7="","",-SUMIFS(Tabla7[Cantidad],Tabla7[Código del producto],$B7,Tabla7[Tipo de movimiento],"SALIDA",Tabla7[Mes],N$5)) -> 0 | O7: =IF($B7="","",-SUMIFS(Tabla7[Cantidad],Tabla7[Código del producto],$B7,Tabla7[Tipo de movimiento],"SALIDA",Tabla7[Mes],O$5)) -> 11 | P7: =IF($B7="","",-SUMIFS(Tabla7[Cantidad],Tabla7[Código del producto],$B7,Tabla7[Tipo de movimiento],"SALIDA",Tabla7[Mes],P$5)) -> 0 | Q7: =IF($B7="","",IFERROR(AVERAGE(N7:P7),0)) -> 3.6666667 | R7: =IF($B7="","",IFERROR(VLOOKUP($B7,'ABC rotación'!$C:$G,5,0),"C")) -> B | S7: =IF($B7="","",IFERROR(H7/Q7*30,0)) -> 24.545455 | T7: =IF($B7="","",S7/F7) -> 1.2272727 | U7: =IF($B7="","",VLOOKUP($T7,Tablas!$X$14:$Y$17,2,1)) -> 3. VERDE
B8: =IF(Tablas!B6="","",Tablas!B6) -> 300003 | C8: =IF(Tablas!C6="","",Tablas!C6) -> CADENA DE TRACCION | D8: =IF(Tablas!D6="","",Tablas!D6) -> 13 - TRACCION | E8: =IF(Tablas!E6="","",Tablas!E6) -> UN | F8: =IF(Tablas!F6="","",Tablas!F6) -> 28 | G8: =IF(Tablas!I6="","",Tablas!I6) -> 7 | H8: 7 | I8: =IF($B8="","",-SUMIFS(Tabla7[Cantidad],Tabla7[Código del producto],$B8,Tabla7[Tipo de movimiento],"SALIDA",Tabla7[Mes],I$5)) -> 0 | J8: =IF($B8="","",-SUMIFS(Tabla7[Cantidad],Tabla7[Código del producto],$B8,Tabla7[Tipo de movimiento],"SALIDA",Tabla7[Mes],J$5)) -> 0 | K8: =IF($B8="","",-SUMIFS(Tabla7[Cantidad],Tabla7[Código del producto],$B8,Tabla7[Tipo de movimiento],"SALIDA",Tabla7[Mes],K$5)) -> 0 | L8: =IF($B8="","",-SUMIFS(Tabla7[Cantidad],Tabla7[Código del producto],$B8,Tabla7[Tipo de movimiento],"SALIDA",Tabla7[Mes],L$5)) -> 6 | M8: =IF($B8="","",-SUMIFS(Tabla7[Cantidad],Tabla7[Código del producto],$B8,Tabla7[Tipo de movimiento],"SALIDA",Tabla7[Mes],M$5)) -> 6 | N8: =IF($B8="","",-SUMIFS(Tabla7[Cantidad],Tabla7[Código del producto],$B8,Tabla7[Tipo de movimiento],"SALIDA",Tabla7[Mes],N$5)) -> 0 | O8: =IF($B8="","",-SUMIFS(Tabla7[Cantidad],Tabla7[Código del producto],$B8,Tabla7[Tipo de movimiento],"SALIDA",Tabla7[Mes],O$5)) -> 0 | P8: =IF($B8="","",-SUMIFS(Tabla7[Cantidad],Tabla7[Código del producto],$B8,Tabla7[Tipo de movimiento],"SALIDA",Tabla7[Mes],P$5)) -> 0 | Q8: =IF($B8="","",IFERROR(AVERAGE(N8:P8),0)) -> 0 | R8: =IF($B8="","",IFERROR(VLOOKUP($B8,'ABC rotación'!$C:$G,5,0),"C")) -> B | S8: =IF($B8="","",IFERROR(H8/Q8*30,0)) -> 0 | T8: =IF($B8="","",S8/F8) -> 0 | U8: =IF($B8="","",VLOOKUP($T8,Tablas!$X$14:$Y$17,2,1)) -> 1. ROJO
B9: =IF(Tablas!B7="","",Tablas!B7) -> 300004 | C9: =IF(Tablas!C7="","",Tablas!C7) -> CATALINA | D9: =IF(Tablas!D7="","",Tablas!D7) -> 13 - TRACCION | E9: =IF(Tablas!E7="","",Tablas!E7) -> UN | F9: =IF(Tablas!F7="","",Tablas!F7) -> 30 | G9: =IF(Tablas!I7="","",Tablas!I7) -> 13 | H9: 5 | I9: =IF($B9="","",-SUMIFS(Tabla7[Cantidad],Tabla7[Código del producto],$B9,Tabla7[Tipo de movimiento],"SALIDA",Tabla7[Mes],I$5)) -> 0 | J9: =IF($B9="","",-SUMIFS(Tabla7[Cantidad],Tabla7[Código del producto],$B9,Tabla7[Tipo de movimiento],"SALIDA",Tabla7[Mes],J$5)) -> 0 | K9: =IF($B9="","",-SUMIFS(Tabla7[Cantidad],Tabla7[Código del producto],$B9,Tabla7[Tipo de movimiento],"SALIDA",Tabla7[Mes],K$5)) -> 0 | L9: =IF($B9="","",-SUMIFS(Tabla7[Cantidad],Tabla7[Código del producto],$B9,Tabla7[Tipo de movimiento],"SALIDA",Tabla7[Mes],L$5)) -> 0 | M9: =IF($B9="","",-SUMIFS(Tabla7[Cantidad],Tabla7[Código del producto],$B9,Tabla7[Tipo de movimiento],"SALIDA",Tabla7[Mes],M$5)) -> 0 | N9: =IF($B9="","",-SUMIFS(Tabla7[Cantidad],Tabla7[Código del producto],$B9,Tabla7[Tipo de movimiento],"SALIDA",Tabla7[Mes],N$5)) -> 0 | O9: =IF($B9="","",-SUMIFS(Tabla7[Cantidad],Tabla7[Código del producto],$B9,Tabla7[Tipo de movimiento],"SALIDA",Tabla7[Mes],O$5)) -> 0 | P9: =IF($B9="","",-SUMIFS(Tabla7[Cantidad],Tabla7[Código del producto],$B9,Tabla7[Tipo de movimiento],"SALIDA",Tabla7[Mes],P$5)) -> 0 | Q9: =IF($B9="","",IFERROR(AVERAGE(N9:P9),0)) -> 0 | R9: =IF($B9="","",IFERROR(VLOOKUP($B9,'ABC rotación'!$C:$G,5,0),"C")) -> C | S9: =IF($B9="","",IFERROR(H9/Q9*30,0)) -> 0 | T9: =IF($B9="","",S9/F9) -> 0 | U9: =IF($B9="","",VLOOKUP($T9,Tablas!$X$14:$Y$17,2,1)) -> 1. ROJO
B10: =IF(Tablas!B8="","",Tablas!B8) -> 300005 | C10: =IF(Tablas!C8="","",Tablas!C8) -> CONJUNTO DE TUBO DE ESCAPE | D10: =IF(Tablas!D8="","",Tablas!D8) -> 07 - PEDALES Y POSAPIES | E10: =IF(Tablas!E8="","",Tablas!E8) -> UN | F10: =IF(Tablas!F8="","",Tablas!F8) -> 8 | G10: =IF(Tablas!I8="","",Tablas!I8) -> 13 | H10: 5 | I10: =IF($B10="","",-SUMIFS(Tabla7[Cantidad],Tabla7[Código del producto],$B10,Tabla7[Tipo de movimiento],"SALIDA",Tabla7[Mes],I$5)) -> 0 | J10: =IF($B10="","",-SUMIFS(Tabla7[Cantidad],Tabla7[Código del producto],$B10,Tabla7[Tipo de movimiento],"SALIDA",Tabla7[Mes],J$5)) -> 0 | K10: =IF($B10="","",-SUMIFS(Tabla7[Cantidad],Tabla7[Código del producto],$B10,Tabla7[Tipo de movimiento],"SALIDA",Tabla7[Mes],K$5)) -> 0 | L10: =IF($B10="","",-SUMIFS(Tabla7[Cantidad],Tabla7[Código del producto],$B10,Tabla7[Tipo de movimiento],"SALIDA",Tabla7[Mes],L$5)) -> 0 | M10: =IF($B10="","",-SUMIFS(Tabla7[Cantidad],Tabla7[Código del producto],$B10,Tabla7[Tipo de movimiento],"SALIDA",Tabla7[Mes],M$5)) -> 16 | N10: =IF($B10="","",-SUMIFS(Tabla7[Cantidad],Tabla7[Código del producto],$B10,Tabla7[Tipo de movimiento],"SALIDA",Tabla7[Mes],N$5)) -> 0 | O10: =IF($B10="","",-SUMIFS(Tabla7[Cantidad],Tabla7[Código del producto],$B10,Tabla7[Tipo de movimiento],"SALIDA",Tabla7[Mes],O$5)) -> 0 | P10: =IF($B10="","",-SUMIFS(Tabla7[Cantidad],Tabla7[Código del producto],$B10,Tabla7[Tipo de movimiento],"SALIDA",Tabla7[Mes],P$5)) -> 0 | Q10: =IF($B10="","",IFERROR(AVERAGE(N10:P10),0)) -> 0 | R10: =IF($B10="","",IFERROR(VLOOKUP($B10,'ABC rotación'!$C:$G,5,0),"C")) -> A | S10: =IF($B10="","",IFERROR(H10/Q10*30,0)) -> 0 | T10: =IF($B10="","",S10/F10) -> 0 | U10: =IF($B10="","",VLOOKUP($T10,Tablas!$X$14:$Y$17,2,1)) -> 1. ROJO
B11: =IF(Tablas!B9="","",Tablas!B9) -> 300006 | C11: =IF(Tablas!C9="","",Tablas!C9) -> ZAPATAS DE FRENO | D11: =IF(Tablas!D9="","",Tablas!D9) -> 04 - FRENOS Y EMBRAGUES | E11: =IF(Tablas!E9="","",Tablas!E9) -> UN | F11: =IF(Tablas!F9="","",Tablas!F9) -> 16 | G11: =IF(Tablas!I9="","",Tablas!I9) -> 30 | H11: 4 | I11: =IF($B11="","",-SUMIFS(Tabla7[Cantidad],Tabla7[Código del producto],$B11,Tabla7[Tipo de movimiento],"SALIDA",Tabla7[Mes],I$5)) -> 0 | J11: =IF($B11="","",-SUMIFS(Tabla7[Cantidad],Tabla7[Código del producto],$B11,Tabla7[Tipo de movimiento],"SALIDA",Tabla7[Mes],J$5)) -> 0 | K11: =IF($B11="","",-SUMIFS(Tabla7[Cantidad],Tabla7[Código del producto],$B11,Tabla7[Tipo de movimiento],"SALIDA",Tabla7[Mes],K$5)) -> 17 | L11: =IF($B11="","",-SUMIFS(Tabla7[Cantidad],Tabla7[Código del producto],$B11,Tabla7[Tipo de movimiento],"SALIDA",Tabla7[Mes],L$5)) -> 31 | M11: =IF($B11="","",-SUMIFS(Tabla7[Cantidad],Tabla7[Código del producto],$B11,Tabla7[Tipo de movimiento],"SALIDA",Tabla7[Mes],M$5)) -> 0 | N11: =IF($B11="","",-SUMIFS(Tabla7[Cantidad],Tabla7[Código del producto],$B11,Tabla7[Tipo de movimiento],"SALIDA",Tabla7[Mes],N$5)) -> 0 | O11: =IF($B11="","",-SUMIFS(Tabla7[Cantidad],Tabla7[Código del producto],$B11,Tabla7[Tipo de movimiento],"SALIDA",Tabla7[Mes],O$5)) -> 0 | P11: =IF($B11="","",-SUMIFS(Tabla7[Cantidad],Tabla7[Código del producto],$B11,Tabla7[Tipo de movimiento],"SALIDA",Tabla7[Mes],P$5)) -> 17 | Q11: =IF($B11="","",IFERROR(AVERAGE(N11:P11),0)) -> 5.6666667 | R11: =IF($B11="","",IFERROR(VLOOKUP($B11,'ABC rotación'!$C:$G,5,0),"C")) -> A | S11: =IF($B11="","",IFERROR(H11/Q11*30,0)) -> 21.176471 | T11: =IF($B11="","",S11/F11) -> 1.3235294 | U11: =IF($B11="","",VLOOKUP($T11,Tablas!$X$14:$Y$17,2,1)) -> 3. VERDE
B12: =IF(Tablas!B10="","",Tablas!B10) -> 300007 | C12: =IF(Tablas!C10="","",Tablas!C10) -> BATERIA DIABOLO | D12: =IF(Tablas!D10="","",Tablas!D10) -> 01 - BATERIAS | E12: =IF(Tablas!E10="","",Tablas!E10) -> UN | F12: =IF(Tablas!F10="","",Tablas!F10) -> 15 | G12: =IF(Tablas!I10="","",Tablas!I10) -> 21 | H12: 6 | I12: =IF($B12="","",-SUMIFS(Tabla7[Cantidad],Tabla7[Código del producto],$B12,Tabla7[Tipo de movimiento],"SALIDA",Tabla7[Mes],I$5)) -> 0 | J12: =IF($B12="","",-SUMIFS(Tabla7[Cantidad],Tabla7[Código del producto],$B12,Tabla7[Tipo de movimiento],"SALIDA",Tabla7[Mes],J$5)) -> 0 | K12: =IF($B12="","",-SUMIFS(Tabla7[Cantidad],Tabla7[Código del producto],$B12,Tabla7[Tipo de movimiento],"SALIDA",Tabla7[Mes],K$5)) -> 0 | L12: =IF($B12="","",-SUMIFS(Tabla7[Cantidad],Tabla7[Código del producto],$B12,Tabla7[Tipo de movimiento],"SALIDA",Tabla7[Mes],L$5)) -> 0 | M12: =IF($B12="","",-SUMIFS(Tabla7[Cantidad],Tabla7[Código del producto],$B12,Tabla7[Tipo de movimiento],"SALIDA",Tabla7[Mes],M$5)) -> 39 | N12: =IF($B12="","",-SUMIFS(Tabla7[Cantidad],Tabla7[Código del producto],$B12,Tabla7[Tipo de movimiento],"SALIDA",Tabla7[Mes],N$5)) -> 0 | O12: =IF($B12="","",-SUMIFS(Tabla7[Cantidad],Tabla7[Código del producto],$B12,Tabla7[Tipo de movimiento],"SALIDA",Tabla7[Mes],O$5)) -> 6 | P12: =IF($B12="","",-SUMIFS(Tabla7[Cantidad],Tabla7[Código del producto],$B12,Tabla7[Tipo de movimiento],"SALIDA",Tabla7[Mes],P$5)) -> 0 | Q12: =IF($B12="","",IFERROR(AVERAGE(N12:P12),0)) -> 2 | R12: =IF($B12="","",IFERROR(VLOOKUP($B12,'ABC rotación'!$C:$G,5,0),"C")) -> B | S12: =IF($B12="","",IFERROR(H12/Q12*30,0)) -> 90 | T12: =IF($B12="","",S12/F12) -> 6 | U12: =IF($B12="","",VLOOKUP($T12,Tablas!$X$14:$Y$17,2,1)) -> 4. NEGRO
B13: =IF(Tablas!B11="","",Tablas!B11) -> 300008 | C13: =IF(Tablas!C11="","",Tablas!C11) -> CONJ. COMPLETO PATADA ARRANQUE | D13: =IF(Tablas!D11="","",Tablas!D11) -> 15 - MISCELANEOS | E13: =IF(Tablas!E11="","",Tablas!E11) -> UN | F13: =IF(Tablas!F11="","",Tablas!F11) -> 13 | G13: =IF(Tablas!I11="","",Tablas!I11) -> 12 | H13: 1 | I13: =IF($B13="","",-SUMIFS(Tabla7[Cantidad],Tabla7[Código del producto],$B13,Tabla7[Tipo de movimiento],"SALIDA",Tabla7[Mes],I$5)) -> 0 | J13: =IF($B13="","",-SUMIFS(Tabla7[Cantidad],Tabla7[Código del producto],$B13,Tabla7[Tipo de movimiento],"SALIDA",Tabla7[Mes],J$5)) -> 0 | K13: =IF($B13="","",-SUMIFS(Tabla7[Cantidad],Tabla7[Código del producto],$B13,Tabla7[Tipo de movimiento],"SALIDA",Tabla7[Mes],K$5)) -> 0 | L13: =IF($B13="","",-SUMIFS(Tabla7[Cantidad],Tabla7[Código del producto],$B13,Tabla7[Tipo de movimiento],"SALIDA",Tabla7[Mes],L$5)) -> 18 | M13: =IF($B13="","",-SUMIFS(Tabla7[Cantidad],Tabla7[Código del producto],$B13,Tabla7[Tipo de movimiento],"SALIDA",Tabla7[Mes],M$5)) -> 0 | N13: =IF($B13="","",-SUMIFS(Tabla7[Cantidad],Tabla7[Código del producto],$B13,Tabla7[Tipo de movimiento],"SALIDA",Tabla7[Mes],N$5)) -> 0 | O13: =IF($B13="","",-SUMIFS(Tabla7[Cantidad],Tabla7[Código del producto],$B13,Tabla7[Tipo de movimiento],"SALIDA",Tabla7[Mes],O$5)) -> 0 | P13: =IF($B13="","",-SUMIFS(Tabla7[Cantidad],Tabla7[Código del producto],$B13,Tabla7[Tipo de movimiento],"SALIDA",Tabla7[Mes],P$5)) -> 0 | Q13: =IF($B13="","",IFERROR(AVERAGE(N13:P13),0)) -> 0 | R13: =IF($B13="","",IFERROR(VLOOKUP($B13,'ABC rotación'!$C:$G,5,0),"C")) -> C | S13: =IF($B13="","",IFERROR(H13/Q13*30,0)) -> 0 | T13: =IF($B13="","",S13/F13) -> 0 | U13: =IF($B13="","",VLOOKUP($T13,Tablas!$X$14:$Y$17,2,1)) -> 1. ROJO
B14: =IF(Tablas!B12="","",Tablas!B12) -> 300009 | C14: =IF(Tablas!C12="","",Tablas!C12) -> ALTERNADOR | D14: =IF(Tablas!D12="","",Tablas!D12) -> 08 - ELECTRICO | E14: =IF(Tablas!E12="","",Tablas!E12) -> UN | F14: =IF(Tablas!F12="","",Tablas!F12) -> 19 | G14: =IF(Tablas!I12="","",Tablas!I12) -> 22 | H14: 9 | I14: =IF($B14="","",-SUMIFS(Tabla7[Cantidad],Tabla7[Código del producto],$B14,Tabla7[Tipo de movimiento],"SALIDA",Tabla7[Mes],I$5)) -> 12 | J14: =IF($B14="","",-SUMIFS(Tabla7[Cantidad],Tabla7[Código del producto],$B14,Tabla7[Tipo de movimiento],"SALIDA",Tabla7[Mes],J$5)) -> 0 | K14: =IF($B14="","",-SUMIFS(Tabla7[Cantidad],Tabla7[Código del producto],$B14,Tabla7[Tipo de movimiento],"SALIDA",Tabla7[Mes],K$5)) -> 0 | L14: =IF($B14="","",-SUMIFS(Tabla7[Cantidad],Tabla7[Código del producto],$B14,Tabla7[Tipo de movimiento],"SALIDA",Tabla7[Mes],L$5)) -> 0 | M14: =IF($B14="","",-SUMIFS(Tabla7[Cantidad],Tabla7[Código del producto],$B14,Tabla7[Tipo de movimiento],"SALIDA",Tabla7[Mes],M$5)) -> 0 | N14: =IF($B14="","",-SUMIFS(Tabla7[Cantidad],Tabla7[Código del producto],$B14,Tabla7[Tipo de movimiento],"SALIDA",Tabla7[Mes],N$5)) -> 0 | O14: =IF($B14="","",-SUMIFS(Tabla7[Cantidad],Tabla7[Código del producto],$B14,Tabla7[Tipo de movimiento],"SALIDA",Tabla7[Mes],O$5)) -> 0 | P14: =IF($B14="","",-SUMIFS(Tabla7[Cantidad],Tabla7[Código del producto],$B14,Tabla7[Tipo de movimiento],"SALIDA",Tabla7[Mes],P$5)) -> 0 | Q14: =IF($B14="","",IFERROR(AVERAGE(N14:P14),0)) -> 0 | R14: =IF($B14="","",IFERROR(VLOOKUP($B14,'ABC rotación'!$C:$G,5,0),"C")) -> C | S14: =IF($B14="","",IFERROR(H14/Q14*30,0)) -> 0 | T14: =IF($B14="","",S14/F14) -> 0 | U14: =IF($B14="","",VLOOKUP($T14,Tablas!$X$14:$Y$17,2,1)) -> 1. ROJO
B15: =IF(Tablas!B13="","",Tablas!B13) -> 300010 | C15: =IF(Tablas!C13="","",Tablas!C13) -> BATERIA CITY | D15: =IF(Tablas!D13="","",Tablas!D13) -> 01 - BATERIAS | E15: =IF(Tablas!E13="","",Tablas!E13) -> UN | F15: =IF(Tablas!F13="","",Tablas!F13) -> 29 | G15: =IF(Tablas!I13="","",Tablas!I13) -> 24 | H15: 5 | I15: =IF($B15="","",-SUMIFS(Tabla7[Cantidad],Tabla7[Código del producto],$B15,Tabla7[Tipo de movimiento],"SALIDA",Tabla7[Mes],I$5)) -> 6 | J15: =IF($B15="","",-SUMIFS(Tabla7[Cantidad],Tabla7[Código del producto],$B15,Tabla7[Tipo de movimiento],"SALIDA",Tabla7[Mes],J$5)) -> 19 | K15: =IF($B15="","",-SUMIFS(Tabla7[Cantidad],Tabla7[Código del producto],$B15,Tabla7[Tipo de movimiento],"SALIDA",Tabla7[Mes],K$5)) -> 0 | L15: =IF($B15="","",-SUMIFS(Tabla7[Cantidad],Tabla7[Código del producto],$B15,Tabla7[Tipo de movimiento],"SALIDA",Tabla7[Mes],L$5)) -> 0 | M15: =IF($B15="","",-SUMIFS(Tabla7[Cantidad],Tabla7[Código del producto],$B15,Tabla7[Tipo de movimiento],"SALIDA",Tabla7[Mes],M$5)) -> 0 | N15: =IF($B15="","",-SUMIFS(Tabla7[Cantidad],Tabla7[Código del producto],$B15,Tabla7[Tipo de movimiento],"SALIDA",Tabla7[Mes],N$5)) -> 0 | O15: =IF($B15="","",-SUMIFS(Tabla7[Cantidad],Tabla7[Código del producto],$B15,Tabla7[Tipo de movimiento],"SALIDA",Tabla7[Mes],O$5)) -> 0 | P15: =IF($B15="","",-SUMIFS(Tabla7[Cantidad],Tabla7[Código del producto],$B15,Tabla7[Tipo de movimiento],"SALIDA",Tabla7[Mes],P$5)) -> 0 | Q15: =IF($B15="","",IFERROR(AVERAGE(N15:P15),0)) -> 0 | R15: =IF($B15="","",IFERROR(VLOOKUP($B15,'ABC rotación'!$C:$G,5,0),"C")) -> A | S15: =IF($B15="","",IFERROR(H15/Q15*30,0)) -> 0 | T15: =IF($B15="","",S15/F15) -> 0 | U15: =IF($B15="","",VLOOKUP($T15,Tablas!$X$14:$Y$17,2,1)) -> 1. ROJO
B16: =IF(Tablas!B14="","",Tablas!B14) -> 300011 | C16: =IF(Tablas!C14="","",Tablas!C14) -> REGULADOR RECTIFICADOR | D16: =IF(Tablas!D14="","",Tablas!D14) -> 08 - ELECTRICO | E16: =IF(Tablas!E14="","",Tablas!E14) -> UN | F16: =IF(Tablas!F14="","",Tablas!F14) -> 23 | G16: =IF(Tablas!I14="","",Tablas!I14) -> 6 | H16: 10 | I16: =IF($B16="","",-SUMIFS(Tabla7[Cantidad],Tabla7[Código del producto],$B16,Tabla7[Tipo de movimiento],"SALIDA",Tabla7[Mes],I$5)) -> 0 | J16: =IF($B16="","",-SUMIFS(Tabla7[Cantidad],Tabla7[Código del producto],$B16,Tabla7[Tipo de movimiento],"SALIDA",Tabla7[Mes],J$5)) -> 0 | K16: =IF($B16="","",-SUMIFS(Tabla7[Cantidad],Tabla7[Código del producto],$B16,Tabla7[Tipo de movimiento],"SALIDA",Tabla7[Mes],K$5)) -> 17 | L16: =IF($B16="","",-SUMIFS(Tabla7[Cantidad],Tabla7[Código del producto],$B16,Tabla7[Tipo de movimiento],"SALIDA",Tabla7[Mes],L$5)) -> 11 | M16: =IF($B16="","",-SUMIFS(Tabla7[Cantidad],Tabla7[Código del producto],$B16,Tabla7[Tipo de movimiento],"SALIDA",Tabla7[Mes],M$5)) -> 19 | N16: =IF($B16="","",-SUMIFS(Tabla7[Cantidad],Tabla7[Código del producto],$B16,Tabla7[Tipo de movimiento],"SALIDA",Tabla7[Mes],N$5)) -> 18 | O16: =IF($B16="","",-SUMIFS(Tabla7[Cantidad],Tabla7[Código del producto],$B16,Tabla7[Tipo de movimiento],"SALIDA",Tabla7[Mes],O$5)) -> 0 | P16: =IF($B16="","",-SUMIFS(Tabla7[Cantidad],Tabla7[Código del producto],$B16,Tabla7[Tipo de movimiento],"SALIDA",Tabla7[Mes],P$5)) -> 20 | Q16: =IF($B16="","",IFERROR(AVERAGE(N16:P16),0)) -> 12.666667 | R16: =IF($B16="","",IFERROR(VLOOKUP($B16,'ABC rotación'!$C:$G,5,0),"C")) -> A | S16: =IF($B16="","",IFERROR(H16/Q16*30,0)) -> 23.684211 | T16: =IF($B16="","",S16/F16) -> 1.0297483 | U16: =IF($B16="","",VLOOKUP($T16,Tablas!$X$14:$Y$17,2,1)) -> 3. VERDE
B17: =IF(Tablas!B15="","",Tablas!B15) -> 300012 | C17: =IF(Tablas!C15="","",Tablas!C15) -> FOCO FARO (12V35W/35W) | D17: =IF(Tablas!D15="","",Tablas!D15) -> 02 - BUJIAS | E17: =IF(Tablas!E15="","",Tablas!E15) -> UN | F17: =IF(Tablas!F15="","",Tablas!F15) -> 28 | G17: =IF(Tablas!I15="","",Tablas!I15) -> 49 | H17: 0 | I17: =IF($B17="","",-SUMIFS(Tabla7[Cantidad],Tabla7[Código del producto],$B17,Tabla7[Tipo de movimiento],"SALIDA",Tabla7[Mes],I$5)) -> 0 | J17: =IF($B17="","",-SUMIFS(Tabla7[Cantidad],Tabla7[Código del producto],$B17,Tabla7[Tipo de movimiento],"SALIDA",Tabla7[Mes],J$5)) -> 10 | K17: =IF($B17="","",-SUMIFS(Tabla7[Cantidad],Tabla7[Código del producto],$B17,Tabla7[Tipo de movimiento],"SALIDA",Tabla7[Mes],K$5)) -> 0 | L17: =IF($B17="","",-SUMIFS(Tabla7[Cantidad],Tabla7[Código del producto],$B17,Tabla7[Tipo de movimiento],"SALIDA",Tabla7[Mes],L$5)) -> 0 | M17: =IF($B17="","",-SUMIFS(Tabla7[Cantidad],Tabla7[Código del producto],$B17,Tabla7[Tipo de movimiento],"SALIDA",Tabla7[Mes],M$5)) -> 16 | N17: =IF($B17="","",-SUMIFS(Tabla7[Cantidad],Tabla7[Código del producto],$B17,Tabla7[Tipo de movimiento],"SALIDA",Tabla7[Mes],N$5)) -> 19 | O17: =IF($B17="","",-SUMIFS(Tabla7[Cantidad],Tabla7[Código del producto],$B17,Tabla7[Tipo de movimiento],"SALIDA",Tabla7[Mes],O$5)) -> 7 | P17: =IF($B17="","",-SUMIFS(Tabla7[Cantidad],Tabla7[Código del producto],$B17,Tabla7[Tipo de movimiento],"SALIDA",Tabla7[Mes],P$5)) -> 0 | Q17: =IF($B17="","",IFERROR(AVERAGE(N17:P17),0)) -> 8.6666667 | R17: =IF($B17="","",IFERROR(VLOOKUP($B17,'ABC rotación'!$C:$G,5,0),"C")) -> B | S17: =IF($B17="","",IFERROR(H17/Q17*30,0)) -> 0 | T17: =IF($B17="","",S17/F17) -> 0 | U17: =IF($B17="","",VLOOKUP($T17,Tablas!$X$14:$Y$17,2,1)) -> 1. ROJO
... B1062: =IF(Tablas!B1060="","",Tablas!B1060) -> 301057 | C1062: =IF(Tablas!C1060="","",Tablas!C1060) -> SELLO DE ACEITE,65*145*7 | D1062: =IF(Tablas!D1060="","",Tablas!D1060) -> 11 - LLANTAS Y HULES | E1062: =IF(Tablas!E1060="","",Tablas!E1060) -> UN | F1062: =IF(Tablas!F1060="","",Tablas!F1060) -> 21 | G1062: =IF(Tablas!I1060="","",Tablas!I1060) -> 43 | H1062: 8 | I1062: =IF($B1062="","",-SUMIFS(Tabla7[Cantidad],Tabla7[Código del producto],$B1062,Tabla7[Tipo de movimiento],"SALIDA",Tabla7[Mes],I$5)) -> 0 | J1062: =IF($B1062="","",-SUMIFS(Tabla7[Cantidad],Tabla7[Código del producto],$B1062,Tabla7[Tipo de movimiento],"SALIDA",Tabla7[Mes],J$5)) -> 0 | K1062: =IF($B1062="","",-SUMIFS(Tabla7[Cantidad],Tabla7[Código del producto],$B1062,Tabla7[Tipo de movimiento],"SALIDA",Tabla7[Mes],K$5)) -> 0 | L1062: =IF($B1062="","",-SUMIFS(Tabla7[Cantidad],Tabla7[Código del producto],$B1062,Tabla7[Tipo de movimiento],"SALIDA",Tabla7[Mes],L$5)) -> 0 | M1062: =IF($B1062="","",-SUMIFS(Tabla7[Cantidad],Tabla7[Código del producto],$B1062,Tabla7[Tipo de movimiento],"SALIDA",Tabla7[Mes],M$5)) -> 0 | N1062: =IF($B1062="","",-SUMIFS(Tabla7[Cantidad],Tabla7[Código del producto],$B1062,Tabla7[Tipo de movimiento],"SALIDA",Tabla7[Mes],N$5)) -> 18 | O1062: =IF($B1062="","",-SUMIFS(Tabla7[Cantidad],Tabla7[Código del producto],$B1062,Tabla7[Tipo de movimiento],"SALIDA",Tabla7[Mes],O$5)) -> 0 | P1062: =IF($B1062="","",-SUMIFS(Tabla7[Cantidad],Tabla7[Código del producto],$B1062,Tabla7[Tipo de movimiento],"SALIDA",Tabla7[Mes],P$5)) -> 9 | Q1062: =IF($B1062="","",IFERROR(AVERAGE(N1062:P1062),0)) -> 9 | R1062: =IF($B1062="","",IFERROR(VLOOKUP($B1062,'ABC rotación'!$C:$G,5,0),"C")) -> A | S1062: =IF($B1062="","",IFERROR(H1062/Q1062*30,0)) -> 26.666667 | T1062: =IF($B1062="","",S1062/F1062) -> 1.2698413 | U1062: =IF($B1062="","",VLOOKUP($T1062,Tablas!$X$14:$Y$17,2,1)) -> 3. VERDE
B1063: =IF(Tablas!B1061="","",Tablas!B1061) | C1063: =IF(Tablas!C1061="","",Tablas!C1061) | D1063: =IF(Tablas!D1061="","",Tablas!D1061) | E1063: =IF(Tablas!E1061="","",Tablas!E1061) | F1063: =IF(Tablas!F1061="","",Tablas!F1061) | G1063: =IF(Tablas!I1061="","",Tablas!I1061) | I1063: =IF($B1063="","",-SUMIFS(Tabla7[Cantidad],Tabla7[Código del producto],$B1063,Tabla7[Tipo de movimiento],"SALIDA",Tabla7[Mes],I$5)) | J1063: =IF($B1063="","",-SUMIFS(Tabla7[Cantidad],Tabla7[Código del producto],$B1063,Tabla7[Tipo de movimiento],"SALIDA",Tabla7[Mes],J$5)) | K1063: =IF($B1063="","",-SUMIFS(Tabla7[Cantidad],Tabla7[Código del producto],$B1063,Tabla7[Tipo de movimiento],"SALIDA",Tabla7[Mes],K$5)) | L1063: =IF($B1063="","",-SUMIFS(Tabla7[Cantidad],Tabla7[Código del producto],$B1063,Tabla7[Tipo de movimiento],"SALIDA",Tabla7[Mes],L$5)) | M1063: =IF($B1063="","",-SUMIFS(Tabla7[Cantidad],Tabla7[Código del producto],$B1063,Tabla7[Tipo de movimiento],"SALIDA",Tabla7[Mes],M$5)) | N1063: =IF($B1063="","",-SUMIFS(Tabla7[Cantidad],Tabla7[Código del producto],$B1063,Tabla7[Tipo de movimiento],"SALIDA",Tabla7[Mes],N$5)) | O1063: =IF($B1063="","",-SUMIFS(Tabla7[Cantidad],Tabla7[Código del producto],$B1063,Tabla7[Tipo de movimiento],"SALIDA",Tabla7[Mes],O$5)) | P1063: =IF($B1063="","",-SUMIFS(Tabla7[Cantidad],Tabla7[Código del producto],$B1063,Tabla7[Tipo de movimiento],"SALIDA",Tabla7[Mes],P$5)) | Q1063: =IF($B1063="","",IFERROR(AVERAGE(N1063:P1063),0)) | R1063: =IF($B1063="","",IFERROR(VLOOKUP($B1063,'ABC rotación'!$C:$G,5,0),"C")) | S1063: =IF($B1063="","",IFERROR(H1063/Q1063*30,0)) | T1063: =IF($B1063="","",S1063/F1063) | U1063: =IF($B1063="","",VLOOKUP($T1063,Tablas!$X$14:$Y$17,2,1))
B1064: =IF(Tablas!B1062="","",Tablas!B1062) | C1064: =IF(Tablas!C1062="","",Tablas!C1062) | D1064: =IF(Tablas!D1062="","",Tablas!D1062) | E1064: =IF(Tablas!E1062="","",Tablas!E1062) | F1064: =IF(Tablas!F1062="","",Tablas!F1062) | G1064: =IF(Tablas!I1062="","",Tablas!I1062) | I1064: =IF($B1064="","",-SUMIFS(Tabla7[Cantidad],Tabla7[Código del producto],$B1064,Tabla7[Tipo de movimiento],"SALIDA",Tabla7[Mes],I$5)) | J1064: =IF($B1064="","",-SUMIFS(Tabla7[Cantidad],Tabla7[Código del producto],$B1064,Tabla7[Tipo de movimiento],"SALIDA",Tabla7[Mes],J$5)) | K1064: =IF($B1064="","",-SUMIFS(Tabla7[Cantidad],Tabla7[Código del producto],$B1064,Tabla7[Tipo de movimiento],"SALIDA",Tabla7[Mes],K$5)) | L1064: =IF($B1064="","",-SUMIFS(Tabla7[Cantidad],Tabla7[Código del producto],$B1064,Tabla7[Tipo de movimiento],"SALIDA",Tabla7[Mes],L$5)) | M1064: =IF($B1064="","",-SUMIFS(Tabla7[Cantidad],Tabla7[Código del producto],$B1064,Tabla7[Tipo de movimiento],"SALIDA",Tabla7[Mes],M$5)) | N1064: =IF($B1064="","",-SUMIFS(Tabla7[Cantidad],Tabla7[Código del producto],$B1064,Tabla7[Tipo de movimiento],"SALIDA",Tabla7[Mes],N$5)) | O1064: =IF($B1064="","",-SUMIFS(Tabla7[Cantidad],Tabla7[Código del producto],$B1064,Tabla7[Tipo de movimiento],"SALIDA",Tabla7[Mes],O$5)) | P1064: =IF($B1064="","",-SUMIFS(Tabla7[Cantidad],Tabla7[Código del producto],$B1064,Tabla7[Tipo de movimiento],"SALIDA",Tabla7[Mes],P$5)) | Q1064: =IF($B1064="","",IFERROR(AVERAGE(N1064:P1064),0)) | R1064: =IF($B1064="","",IFERROR(VLOOKUP($B1064,'ABC rotación'!$C:$G,5,0),"C")) | S1064: =IF($B1064="","",IFERROR(H1064/Q1064*30,0)) | T1064: =IF($B1064="","",S1064/F1064) | U1064: =IF($B1064="","",VLOOKUP($T1064,Tablas!$X$14:$Y$17,2,1))
B1065: =IF(Tablas!B1063="","",Tablas!B1063) | C1065: =IF(Tablas!C1063="","",Tablas!C1063) | D1065: =IF(Tablas!D1063="","",Tablas!D1063) | E1065: =IF(Tablas!E1063="","",Tablas!E1063) | F1065: =IF(Tablas!F1063="","",Tablas!F1063) | G1065: =IF(Tablas!I1063="","",Tablas!I1063) | I1065: =IF($B1065="","",-SUMIFS(Tabla7[Cantidad],Tabla7[Código del producto],$B1065,Tabla7[Tipo de movimiento],"SALIDA",Tabla7[Mes],I$5)) | J1065: =IF($B1065="","",-SUMIFS(Tabla7[Cantidad],Tabla7[Código del producto],$B1065,Tabla7[Tipo de movimiento],"SALIDA",Tabla7[Mes],J$5)) | K1065: =IF($B1065="","",-SUMIFS(Tabla7[Cantidad],Tabla7[Código del producto],$B1065,Tabla7[Tipo de movimiento],"SALIDA",Tabla7[Mes],K$5)) | L1065: =IF($B1065="","",-SUMIFS(Tabla7[Cantidad],Tabla7[Código del producto],$B1065,Tabla7[Tipo de movimiento],"SALIDA",Tabla7[Mes],L$5)) | M1065: =IF($B1065="","",-SUMIFS(Tabla7[Cantidad],Tabla7[Código del producto],$B1065,Tabla7[Tipo de movimiento],"SALIDA",Tabla7[Mes],M$5)) | N1065: =IF($B1065="","",-SUMIFS(Tabla7[Cantidad],Tabla7[Código del producto],$B1065,Tabla7[Tipo de movimiento],"SALIDA",Tabla7[Mes],N$5)) | O1065: =IF($B1065="","",-SUMIFS(Tabla7[Cantidad],Tabla7[Código del producto],$B1065,Tabla7[Tipo de movimiento],"SALIDA",Tabla7[Mes],O$5)) | P1065: =IF($B1065="","",-SUMIFS(Tabla7[Cantidad],Tabla7[Código del producto],$B1065,Tabla7[Tipo de movimiento],"SALIDA",Tabla7[Mes],P$5)) | Q1065: =IF($B1065="","",IFERROR(AVERAGE(N1065:P1065),0)) | R1065: =IF($B1065="","",IFERROR(VLOOKUP($B1065,'ABC rotación'!$C:$G,5,0),"C")) | S1065: =IF($B1065="","",IFERROR(H1065/Q1065*30,0)) | T1065: =IF($B1065="","",S1065/F1065) | U1065: =IF($B1065="","",VLOOKUP($T1065,Tablas!$X$14:$Y$17,2,1))
B1066: =IF(Tablas!B1064="","",Tablas!B1064) | C1066: =IF(Tablas!C1064="","",Tablas!C1064) | D1066: =IF(Tablas!D1064="","",Tablas!D1064) | E1066: =IF(Tablas!E1064="","",Tablas!E1064) | F1066: =IF(Tablas!F1064="","",Tablas!F1064) | G1066: =IF(Tablas!I1064="","",Tablas!I1064) | I1066: =IF($B1066="","",-SUMIFS(Tabla7[Cantidad],Tabla7[Código del producto],$B1066,Tabla7[Tipo de movimiento],"SALIDA",Tabla7[Mes],I$5)) | J1066: =IF($B1066="","",-SUMIFS(Tabla7[Cantidad],Tabla7[Código del producto],$B1066,Tabla7[Tipo de movimiento],"SALIDA",Tabla7[Mes],J$5)) | K1066: =IF($B1066="","",-SUMIFS(Tabla7[Cantidad],Tabla7[Código del producto],$B1066,Tabla7[Tipo de movimiento],"SALIDA",Tabla7[Mes],K$5)) | L1066: =IF($B1066="","",-SUMIFS(Tabla7[Cantidad],Tabla7[Código del producto],$B1066,Tabla7[Tipo de movimiento],"SALIDA",Tabla7[Mes],L$5)) | M1066: =IF($B1066="","",-SUMIFS(Tabla7[Cantidad],Tabla7[Código del producto],$B1066,Tabla7[Tipo de movimiento],"SALIDA",Tabla7[Mes],M$5)) | N1066: =IF($B1066="","",-SUMIFS(Tabla7[Cantidad],Tabla7[Código del producto],$B1066,Tabla7[Tipo de movimiento],"SALIDA",Tabla7[Mes],N$5)) | O1066: =IF($B1066="","",-SUMIFS(Tabla7[Cantidad],Tabla7[Código del producto],$B1066,Tabla7[Tipo de movimiento],"SALIDA",Tabla7[Mes],O$5)) | P1066: =IF($B1066="","",-SUMIFS(Tabla7[Cantidad],Tabla7[Código del producto],$B1066,Tabla7[Tipo de movimiento],"SALIDA",Tabla7[Mes],P$5)) | Q1066: =IF($B1066="","",IFERROR(AVERAGE(N1066:P1066),0)) | R1066: =IF($B1066="","",IFERROR(VLOOKUP($B1066,'ABC rotación'!$C:$G,5,0),"C")) | S1066: =IF($B1066="","",IFERROR(H1066/Q1066*30,0)) | T1066: =IF($B1066="","",S1066/F1066) | U1066: =IF($B1066="","",VLOOKUP($T1066,Tablas!$X$14:$Y$17,2,1))
B1067: =IF(Tablas!B1065="","",Tablas!B1065) | C1067: =IF(Tablas!C1065="","",Tablas!C1065) | D1067: =IF(Tablas!D1065="","",Tablas!D1065) | E1067: =IF(Tablas!E1065="","",Tablas!E1065) | F1067: =IF(Tablas!F1065="","",Tablas!F1065) | G1067: =IF(Tablas!I1065="","",Tablas!I1065) | I1067: =IF($B1067="","",-SUMIFS(Tabla7[Cantidad],Tabla7[Código del producto],$B1067,Tabla7[Tipo de movimiento],"SALIDA",Tabla7[Mes],I$5)) | J1067: =IF($B1067="","",-SUMIFS(Tabla7[Cantidad],Tabla7[Código del producto],$B1067,Tabla7[Tipo de movimiento],"SALIDA",Tabla7[Mes],J$5)) | K1067: =IF($B1067="","",-SUMIFS(Tabla7[Cantidad],Tabla7[Código del producto],$B1067,Tabla7[Tipo de movimiento],"SALIDA",Tabla7[Mes],K$5)) | L1067: =IF($B1067="","",-SUMIFS(Tabla7[Cantidad],Tabla7[Código del producto],$B1067,Tabla7[Tipo de movimiento],"SALIDA",Tabla7[Mes],L$5)) | M1067: =IF($B1067="","",-SUMIFS(Tabla7[Cantidad],Tabla7[Código del producto],$B1067,Tabla7[Tipo de movimiento],"SALIDA",Tabla7[Mes],M$5)) | N1067: =IF($B1067="","",-SUMIFS(Tabla7[Cantidad],Tabla7[Código del producto],$B1067,Tabla7[Tipo de movimiento],"SALIDA",Tabla7[Mes],N$5)) | O1067: =IF($B1067="","",-SUMIFS(Tabla7[Cantidad],Tabla7[Código del producto],$B1067,Tabla7[Tipo de movimiento],"SALIDA",Tabla7[Mes],O$5)) | P1067: =IF($B1067="","",-SUMIFS(Tabla7[Cantidad],Tabla7[Código del producto],$B1067,Tabla7[Tipo de movimiento],"SALIDA",Tabla7[Mes],P$5)) | Q1067: =IF($B1067="","",IFERROR(AVERAGE(N1067:P1067),0)) | R1067: =IF($B1067="","",IFERROR(VLOOKUP($B1067,'ABC rotación'!$C:$G,5,0),"C")) | S1067: =IF($B1067="","",IFERROR(H1067/Q1067*30,0)) | T1067: =IF($B1067="","",S1067/F1067) | U1067: =IF($B1067="","",VLOOKUP($T1067,Tablas!$X$14:$Y$17,2,1))
B1068: =IF(Tablas!B1066="","",Tablas!B1066) | C1068: =IF(Tablas!C1066="","",Tablas!C1066) | D1068: =IF(Tablas!D1066="","",Tablas!D1066) | E1068: =IF(Tablas!E1066="","",Tablas!E1066) | F1068: =IF(Tablas!F1066="","",Tablas!F1066) | G1068: =IF(Tablas!I1066="","",Tablas!I1066) | I1068: =IF($B1068="","",-SUMIFS(Tabla7[Cantidad],Tabla7[Código del producto],$B1068,Tabla7[Tipo de movimiento],"SALIDA",Tabla7[Mes],I$5)) | J1068: =IF($B1068="","",-SUMIFS(Tabla7[Cantidad],Tabla7[Código del producto],$B1068,Tabla7[Tipo de movimiento],"SALIDA",Tabla7[Mes],J$5)) | K1068: =IF($B1068="","",-SUMIFS(Tabla7[Cantidad],Tabla7[Código del producto],$B1068,Tabla7[Tipo de movimiento],"SALIDA",Tabla7[Mes],K$5)) | L1068: =IF($B1068="","",-SUMIFS(Tabla7[Cantidad],Tabla7[Código del producto],$B1068,Tabla7[Tipo de movimiento],"SALIDA",Tabla7[Mes],L$5)) | M1068: =IF($B1068="","",-SUMIFS(Tabla7[Cantidad],Tabla7[Código del producto],$B1068,Tabla7[Tipo de movimiento],"SALIDA",Tabla7[Mes],M$5)) | N1068: =IF($B1068="","",-SUMIFS(Tabla7[Cantidad],Tabla7[Código del producto],$B1068,Tabla7[Tipo de movimiento],"SALIDA",Tabla7[Mes],N$5)) | O1068: =IF($B1068="","",-SUMIFS(Tabla7[Cantidad],Tabla7[Código del producto],$B1068,Tabla7[Tipo de movimiento],"SALIDA",Tabla7[Mes],O$5)) | P1068: =IF($B1068="","",-SUMIFS(Tabla7[Cantidad],Tabla7[Código del producto],$B1068,Tabla7[Tipo de movimiento],"SALIDA",Tabla7[Mes],P$5)) | Q1068: =IF($B1068="","",IFERROR(AVERAGE(N1068:P1068),0)) | R1068: =IF($B1068="","",IFERROR(VLOOKUP($B1068,'ABC rotación'!$C:$G,5,0),"C")) | S1068: =IF($B1068="","",IFERROR(H1068/Q1068*30,0)) | T1068: =IF($B1068="","",S1068/F1068) | U1068: =IF($B1068="","",VLOOKUP($T1068,Tablas!$X$14:$Y$17,2,1))
B1069: =IF(Tablas!B1067="","",Tablas!B1067) | C1069: =IF(Tablas!C1067="","",Tablas!C1067) | D1069: =IF(Tablas!D1067="","",Tablas!D1067) | E1069: =IF(Tablas!E1067="","",Tablas!E1067) | F1069: =IF(Tablas!F1067="","",Tablas!F1067) | G1069: =IF(Tablas!I1067="","",Tablas!I1067) | I1069: =IF($B1069="","",-SUMIFS(Tabla7[Cantidad],Tabla7[Código del producto],$B1069,Tabla7[Tipo de movimiento],"SALIDA",Tabla7[Mes],I$5)) | J1069: =IF($B1069="","",-SUMIFS(Tabla7[Cantidad],Tabla7[Código del producto],$B1069,Tabla7[Tipo de movimiento],"SALIDA",Tabla7[Mes],J$5)) | K1069: =IF($B1069="","",-SUMIFS(Tabla7[Cantidad],Tabla7[Código del producto],$B1069,Tabla7[Tipo de movimiento],"SALIDA",Tabla7[Mes],K$5)) | L1069: =IF($B1069="","",-SUMIFS(Tabla7[Cantidad],Tabla7[Código del producto],$B1069,Tabla7[Tipo de movimiento],"SALIDA",Tabla7[Mes],L$5)) | M1069: =IF($B1069="","",-SUMIFS(Tabla7[Cantidad],Tabla7[Código del producto],$B1069,Tabla7[Tipo de movimiento],"SALIDA",Tabla7[Mes],M$5)) | N1069: =IF($B1069="","",-SUMIFS(Tabla7[Cantidad],Tabla7[Código del producto],$B1069,Tabla7[Tipo de movimiento],"SALIDA",Tabla7[Mes],N$5)) | O1069: =IF($B1069="","",-SUMIFS(Tabla7[Cantidad],Tabla7[Código del producto],$B1069,Tabla7[Tipo de movimiento],"SALIDA",Tabla7[Mes],O$5)) | P1069: =IF($B1069="","",-SUMIFS(Tabla7[Cantidad],Tabla7[Código del producto],$B1069,Tabla7[Tipo de movimiento],"SALIDA",Tabla7[Mes],P$5)) | Q1069: =IF($B1069="","",IFERROR(AVERAGE(N1069:P1069),0)) | R1069: =IF($B1069="","",IFERROR(VLOOKUP($B1069,'ABC rotación'!$C:$G,5,0),"C")) | S1069: =IF($B1069="","",IFERROR(H1069/Q1069*30,0)) | T1069: =IF($B1069="","",S1069/F1069) | U1069: =IF($B1069="","",VLOOKUP($T1069,Tablas!$X$14:$Y$17,2,1))
B1070: =IF(Tablas!B1068="","",Tablas!B1068) | C1070: =IF(Tablas!C1068="","",Tablas!C1068) | D1070: =IF(Tablas!D1068="","",Tablas!D1068) | E1070: =IF(Tablas!E1068="","",Tablas!E1068) | F1070: =IF(Tablas!F1068="","",Tablas!F1068) | G1070: =IF(Tablas!I1068="","",Tablas!I1068) | I1070: =IF($B1070="","",-SUMIFS(Tabla7[Cantidad],Tabla7[Código del producto],$B1070,Tabla7[Tipo de movimiento],"SALIDA",Tabla7[Mes],I$5)) | J1070: =IF($B1070="","",-SUMIFS(Tabla7[Cantidad],Tabla7[Código del producto],$B1070,Tabla7[Tipo de movimiento],"SALIDA",Tabla7[Mes],J$5)) | K1070: =IF($B1070="","",-SUMIFS(Tabla7[Cantidad],Tabla7[Código del producto],$B1070,Tabla7[Tipo de movimiento],"SALIDA",Tabla7[Mes],K$5)) | L1070: =IF($B1070="","",-SUMIFS(Tabla7[Cantidad],Tabla7[Código del producto],$B1070,Tabla7[Tipo de movimiento],"SALIDA",Tabla7[Mes],L$5)) | M1070: =IF($B1070="","",-SUMIFS(Tabla7[Cantidad],Tabla7[Código del producto],$B1070,Tabla7[Tipo de movimiento],"SALIDA",Tabla7[Mes],M$5)) | N1070: =IF($B1070="","",-SUMIFS(Tabla7[Cantidad],Tabla7[Código del producto],$B1070,Tabla7[Tipo de movimiento],"SALIDA",Tabla7[Mes],N$5)) | O1070: =IF($B1070="","",-SUMIFS(Tabla7[Cantidad],Tabla7[Código del producto],$B1070,Tabla7[Tipo de movimiento],"SALIDA",Tabla7[Mes],O$5)) | P1070: =IF($B1070="","",-SUMIFS(Tabla7[Cantidad],Tabla7[Código del producto],$B1070,Tabla7[Tipo de movimiento],"SALIDA",Tabla7[Mes],P$5)) | Q1070: =IF($B1070="","",IFERROR(AVERAGE(N1070:P1070),0)) | R1070: =IF($B1070="","",IFERROR(VLOOKUP($B1070,'ABC rotación'!$C:$G,5,0),"C")) | S1070: =IF($B1070="","",IFERROR(H1070/Q1070*30,0)) | T1070: =IF($B1070="","",S1070/F1070) | U1070: =IF($B1070="","",VLOOKUP($T1070,Tablas!$X$14:$Y$17,2,1))
B1071: =IF(Tablas!B1069="","",Tablas!B1069) | C1071: =IF(Tablas!C1069="","",Tablas!C1069) | D1071: =IF(Tablas!D1069="","",Tablas!D1069) | E1071: =IF(Tablas!E1069="","",Tablas!E1069) | F1071: =IF(Tablas!F1069="","",Tablas!F1069) | G1071: =IF(Tablas!I1069="","",Tablas!I1069) | I1071: =IF($B1071="","",-SUMIFS(Tabla7[Cantidad],Tabla7[Código del producto],$B1071,Tabla7[Tipo de movimiento],"SALIDA",Tabla7[Mes],I$5)) | J1071: =IF($B1071="","",-SUMIFS(Tabla7[Cantidad],Tabla7[Código del producto],$B1071,Tabla7[Tipo de movimiento],"SALIDA",Tabla7[Mes],J$5)) | K1071: =IF($B1071="","",-SUMIFS(Tabla7[Cantidad],Tabla7[Código del producto],$B1071,Tabla7[Tipo de movimiento],"SALIDA",Tabla7[Mes],K$5)) | L1071: =IF($B1071="","",-SUMIFS(Tabla7[Cantidad],Tabla7[Código del producto],$B1071,Tabla7[Tipo de movimiento],"SALIDA",Tabla7[Mes],L$5)) | M1071: =IF($B1071="","",-SUMIFS(Tabla7[Cantidad],Tabla7[Código del producto],$B1071,Tabla7[Tipo de movimiento],"SALIDA",Tabla7[Mes],M$5)) | N1071: =IF($B1071="","",-SUMIFS(Tabla7[Cantidad],Tabla7[Código del producto],$B1071,Tabla7[Tipo de movimiento],"SALIDA",Tabla7[Mes],N$5)) | O1071: =IF($B1071="","",-SUMIFS(Tabla7[Cantidad],Tabla7[Código del producto],$B1071,Tabla7[Tipo de movimiento],"SALIDA",Tabla7[Mes],O$5)) | P1071: =IF($B1071="","",-SUMIFS(Tabla7[Cantidad],Tabla7[Código del producto],$B1071,Tabla7[Tipo de movimiento],"SALIDA",Tabla7[Mes],P$5)) | Q1071: =IF($B1071="","",IFERROR(AVERAGE(N1071:P1071),0)) | R1071: =IF($B1071="","",IFERROR(VLOOKUP($B1071,'ABC rotación'!$C:$G,5,0),"C")) | S1071: =IF($B1071="","",IFERROR(H1071/Q1071*30,0)) | T1071: =IF($B1071="","",S1071/F1071) | U1071: =IF($B1071="","",VLOOKUP($T1071,Tablas!$X$14:$Y$17,2,1))
B1072: =IF(Tablas!B1070="","",Tablas!B1070) | C1072: =IF(Tablas!C1070="","",Tablas!C1070) | D1072: =IF(Tablas!D1070="","",Tablas!D1070) | E1072: =IF(Tablas!E1070="","",Tablas!E1070) | F1072: =IF(Tablas!F1070="","",Tablas!F1070) | G1072: =IF(Tablas!I1070="","",Tablas!I1070) | I1072: =IF($B1072="","",-SUMIFS(Tabla7[Cantidad],Tabla7[Código del producto],$B1072,Tabla7[Tipo de movimiento],"SALIDA",Tabla7[Mes],I$5)) | J1072: =IF($B1072="","",-SUMIFS(Tabla7[Cantidad],Tabla7[Código del producto],$B1072,Tabla7[Tipo de movimiento],"SALIDA",Tabla7[Mes],J$5)) | K1072: =IF($B1072="","",-SUMIFS(Tabla7[Cantidad],Tabla7[Código del producto],$B1072,Tabla7[Tipo de movimiento],"SALIDA",Tabla7[Mes],K$5)) | L1072: =IF($B1072="","",-SUMIFS(Tabla7[Cantidad],Tabla7[Código del producto],$B1072,Tabla7[Tipo de movimiento],"SALIDA",Tabla7[Mes],L$5)) | M1072: =IF($B1072="","",-SUMIFS(Tabla7[Cantidad],Tabla7[Código del producto],$B1072,Tabla7[Tipo de movimiento],"SALIDA",Tabla7[Mes],M$5)) | N1072: =IF($B1072="","",-SUMIFS(Tabla7[Cantidad],Tabla7[Código del producto],$B1072,Tabla7[Tipo de movimiento],"SALIDA",Tabla7[Mes],N$5)) | O1072: =IF($B1072="","",-SUMIFS(Tabla7[Cantidad],Tabla7[Código del producto],$B1072,Tabla7[Tipo de movimiento],"SALIDA",Tabla7[Mes],O$5)) | P1072: =IF($B1072="","",-SUMIFS(Tabla7[Cantidad],Tabla7[Código del producto],$B1072,Tabla7[Tipo de movimiento],"SALIDA",Tabla7[Mes],P$5)) | Q1072: =IF($B1072="","",IFERROR(AVERAGE(N1072:P1072),0)) | R1072: =IF($B1072="","",IFERROR(VLOOKUP($B1072,'ABC rotación'!$C:$G,5,0),"C")) | S1072: =IF($B1072="","",IFERROR(H1072/Q1072*30,0)) | T1072: =IF($B1072="","",S1072/F1072) | U1072: =IF($B1072="","",VLOOKUP($T1072,Tablas!$X$14:$Y$17,2,1))
B1073: =IF(Tablas!B1071="","",Tablas!B1071) | C1073: =IF(Tablas!C1071="","",Tablas!C1071) | D1073: =IF(Tablas!D1071="","",Tablas!D1071) | E1073: =IF(Tablas!E1071="","",Tablas!E1071) | F1073: =IF(Tablas!F1071="","",Tablas!F1071) | G1073: =IF(Tablas!I1071="","",Tablas!I1071) | I1073: =IF($B1073="","",-SUMIFS(Tabla7[Cantidad],Tabla7[Código del producto],$B1073,Tabla7[Tipo de movimiento],"SALIDA",Tabla7[Mes],I$5)) | J1073: =IF($B1073="","",-SUMIFS(Tabla7[Cantidad],Tabla7[Código del producto],$B1073,Tabla7[Tipo de movimiento],"SALIDA",Tabla7[Mes],J$5)) | K1073: =IF($B1073="","",-SUMIFS(Tabla7[Cantidad],Tabla7[Código del producto],$B1073,Tabla7[Tipo de movimiento],"SALIDA",Tabla7[Mes],K$5)) | L1073: =IF($B1073="","",-SUMIFS(Tabla7[Cantidad],Tabla7[Código del producto],$B1073,Tabla7[Tipo de movimiento],"SALIDA",Tabla7[Mes],L$5)) | M1073: =IF($B1073="","",-SUMIFS(Tabla7[Cantidad],Tabla7[Código del producto],$B1073,Tabla7[Tipo de movimiento],"SALIDA",Tabla7[Mes],M$5)) | N1073: =IF($B1073="","",-SUMIFS(Tabla7[Cantidad],Tabla7[Código del producto],$B1073,Tabla7[Tipo de movimiento],"SALIDA",Tabla7[Mes],N$5)) | O1073: =IF($B1073="","",-SUMIFS(Tabla7[Cantidad],Tabla7[Código del producto],$B1073,Tabla7[Tipo de movimiento],"SALIDA",Tabla7[Mes],O$5)) | P1073: =IF($B1073="","",-SUMIFS(Tabla7[Cantidad],Tabla7[Código del producto],$B1073,Tabla7[Tipo de movimiento],"SALIDA",Tabla7[Mes],P$5)) | Q1073: =IF($B1073="","",IFERROR(AVERAGE(N1073:P1073),0)) | R1073: =IF($B1073="","",IFERROR(VLOOKUP($B1073,'ABC rotación'!$C:$G,5,0),"C")) | S1073: =IF($B1073="","",IFERROR(H1073/Q1073*30,0)) | T1073: =IF($B1073="","",S1073/F1073) | U1073: =IF($B1073="","",VLOOKUP($T1073,Tablas!$X$14:$Y$17,2,1))
B1074: =IF(Tablas!B1072="","",Tablas!B1072) | C1074: =IF(Tablas!C1072="","",Tablas!C1072) | D1074: =IF(Tablas!D1072="","",Tablas!D1072) | E1074: =IF(Tablas!E1072="","",Tablas!E1072) | F1074: =IF(Tablas!F1072="","",Tablas!F1072) | G1074: =IF(Tablas!I1072="","",Tablas!I1072) | I1074: =IF($B1074="","",-SUMIFS(Tabla7[Cantidad],Tabla7[Código del producto],$B1074,Tabla7[Tipo de movimiento],"SALIDA",Tabla7[Mes],I$5)) | J1074: =IF($B1074="","",-SUMIFS(Tabla7[Cantidad],Tabla7[Código del producto],$B1074,Tabla7[Tipo de movimiento],"SALIDA",Tabla7[Mes],J$5)) | K1074: =IF($B1074="","",-SUMIFS(Tabla7[Cantidad],Tabla7[Código del producto],$B1074,Tabla7[Tipo de movimiento],"SALIDA",Tabla7[Mes],K$5)) | L1074: =IF($B1074="","",-SUMIFS(Tabla7[Cantidad],Tabla7[Código del producto],$B1074,Tabla7[Tipo de movimiento],"SALIDA",Tabla7[Mes],L$5)) | M1074: =IF($B1074="","",-SUMIFS(Tabla7[Cantidad],Tabla7[Código del producto],$B1074,Tabla7[Tipo de movimiento],"SALIDA",Tabla7[Mes],M$5)) | N1074: =IF($B1074="","",-SUMIFS(Tabla7[Cantidad],Tabla7[Código del producto],$B1074,Tabla7[Tipo de movimiento],"SALIDA",Tabla7[Mes],N$5)) | O1074: =IF($B1074="","",-SUMIFS(Tabla7[Cantidad],Tabla7[Código del producto],$B1074,Tabla7[Tipo de movimiento],"SALIDA",Tabla7[Mes],O$5)) | P1074: =IF($B1074="","",-SUMIFS(Tabla7[Cantidad],Tabla7[Código del producto],$B1074,Tabla7[Tipo de movimiento],"SALIDA",Tabla7[Mes],P$5)) | Q1074: =IF($B1074="","",IFERROR(AVERAGE(N1074:P1074),0)) | R1074: =IF($B1074="","",IFERROR(VLOOKUP($B1074,'ABC rotación'!$C:$G,5,0),"C")) | S1074: =IF($B1074="","",IFERROR(H1074/Q1074*30,0)) | T1074: =IF($B1074="","",S1074/F1074) | U1074: =IF($B1074="","",VLOOKUP($T1074,Tablas!$X$14:$Y$17,2,1))
... B5001: =IF(Tablas!B4999="","",Tablas!B4999) | C5001: =IF(Tablas!C4999="","",Tablas!C4999) | D5001: =IF(Tablas!D4999="","",Tablas!D4999) | E5001: =IF(Tablas!E4999="","",Tablas!E4999) | F5001: =IF(Tablas!F4999="","",Tablas!F4999) | G5001: =IF(Tablas!I4999="","",Tablas!I4999) | I5001: =IF($B5001="","",-SUMIFS(Tabla7[Cantidad],Tabla7[Código del producto],$B5001,Tabla7[Tipo de movimiento],"SALIDA",Tabla7[Mes],I$5)) | J5001: =IF($B5001="","",-SUMIFS(Tabla7[Cantidad],Tabla7[Código del producto],$B5001,Tabla7[Tipo de movimiento],"SALIDA",Tabla7[Mes],J$5)) | K5001: =IF($B5001="","",-SUMIFS(Tabla7[Cantidad],Tabla7[Código del producto],$B5001,Tabla7[Tipo de movimiento],"SALIDA",Tabla7[Mes],K$5)) | L5001: =IF($B5001="","",-SUMIFS(Tabla7[Cantidad],Tabla7[Código del producto],$B5001,Tabla7[Tipo de movimiento],"SALIDA",Tabla7[Mes],L$5)) | M5001: =IF($B5001="","",-SUMIFS(Tabla7[Cantidad],Tabla7[Código del producto],$B5001,Tabla7[Tipo de movimiento],"SALIDA",Tabla7[Mes],M$5)) | N5001: =IF($B5001="","",-SUMIFS(Tabla7[Cantidad],Tabla7[Código del producto],$B5001,Tabla7[Tipo de movimiento],"SALIDA",Tabla7[Mes],N$5)) | O5001: =IF($B5001="","",-SUMIFS(Tabla7[Cantidad],Tabla7[Código del producto],$B5001,Tabla7[Tipo de movimiento],"SALIDA",Tabla7[Mes],O$5)) | P5001: =IF($B5001="","",-SUMIFS(Tabla7[Cantidad],Tabla7[Código del producto],$B5001,Tabla7[Tipo de movimiento],"SALIDA",Tabla7[Mes],P$5)) | Q5001: =IF($B5001="","",IFERROR(AVERAGE(N5001:P5001),0)) | R5001: =IF($B5001="","",IFERROR(VLOOKUP($B5001,'ABC rotación'!$C:$G,5,0),"C")) | S5001: =IF($B5001="","",IFERROR(H5001/Q5001*30,0)) | T5001: =IF($B5001="","",S5001/F5001) | U5001: =IF($B5001="","",VLOOKUP($T5001,Tablas!$X$14:$Y$17,2,1))

Sheet ABC rotación
B1: ABC ROTACIÓN POR CATEGORÍAS
B3: Categoría | C3: Código del producto | D3: Producto | E3: Nro movimientos | F3: % ACUM | G3: ABC
B4: 01 - BATERIAS | C4: 300972 | D4: BATERIA | E4: 9 | F4: =IF($B4="","",SUMIFS($E$4:E4,$B$4:B4,$B4)/SUMIFS($E$4:$E$1048576,$B$4:$B$1048576,$B4)) -> 0.21428571 | G4: =IF($C4="","",VLOOKUP($F4,Tabla5[],2,1)) -> A
B5: 01 - BATERIAS | C5: 300590 | D5: BATERIA YUASA | E5: 5 | F5: =IF($B5="","",SUMIFS($E$4:E5,$B$4:B5,$B5)/SUMIFS($E$4:$E$1048576,$B$4:$B$1048576,$B5)) -> 0.33333333 | G5: =IF($C5="","",VLOOKUP($F5,Tabla5[],2,1)) -> A
B6: 01 - BATERIAS | C6: 300010 | D6: BATERIA CITY | E6: 4 | F6: =IF($B6="","",SUMIFS($E$4:E6,$B$4:B6,$B6)/SUMIFS($E$4:$E$1048576,$B$4:$B$1048576,$B6)) -> 0.42857143 | G6: =IF($C6="","",VLOOKUP($F6,Tabla5[],2,1)) -> A
B7: 01 - BATERIAS | C7: 300007 | D7: BATERIA DIABOLO | E7: 4 | F7: =IF($B7="","",SUMIFS($E$4:E7,$B$4:B7,$B7)/SUMIFS($E$4:$E$1048576,$B$4:$B$1048576,$B7)) -> 0.52380952 | G7: =IF($C7="","",VLOOKUP($F7,Tabla5[],2,1)) -> B
B8: 01 - BATERIAS | C8: 300070 | D8: BATERIA FORZA | E8: 4 | F8: =IF($B8="","",SUMIFS($E$4:E8,$B$4:B8,$B8)/SUMIFS($E$4:$E$1048576,$B$4:$B$1048576,$B8)) -> 0.61904762 | G8: =IF($C8="","",VLOOKUP($F8,Tabla5[],2,1)) -> B
B9: 01 - BATERIAS | C9: 300047 | D9: BATERIA ARGENTA | E9: 4 | F9: =IF($B9="","",SUMIFS($E$4:E9,$B$4:B9,$B9)/SUMIFS($E$4:$E$1048576,$B$4:$B$1048576,$B9)) -> 0.71428571 | G9: =IF($C9="","",VLOOKUP($F9,Tabla5[],2,1)) -> B
B10: 01 - BATERIAS | C10: 300585 | D10: BATERIA YUASA | E10: 4 | F10: =IF($B10="","",SUMIFS($E$4:E10,$B$4:B10,$B10)/SUMIFS($E$4:$E$1048576,$B$4:$B$1048576,$B10)) -> 0.80952381 | G10: =IF($C10="","",VLOOKUP($F10,Tabla5[],2,1)) -> C
B11: 01 - BATERIAS | C11: 300596 | D11: BATERIA YUASA | E11: 3 | F11: =IF($B11="","",SUMIFS($E$4:E11,$B$4:B11,$B11)/SUMIFS($E$4:$E$1048576,$B$4:$B$1048576,$B11)) -> 0.88095238 | G11: =IF($C11="","",VLOOKUP($F11,Tabla5[],2,1)) -> C
B12: 01 - BATERIAS | C12: 300845 | D12: BATERIA | E12: 3 | F12: =IF($B12="","",SUMIFS($E$4:E12,$B$4:B12,$B12)/SUMIFS($E$4:$E$1048576,$B$4:$B$1048576,$B12)) -> 0.95238095 | G12: =IF($C12="","",VLOOKUP($F12,Tabla5[],2,1)) -> C
B13: 01 - BATERIAS | C13: 300594 | D13: BATERIA YUASA | E13: 2 | F13: =IF($B13="","",SUMIFS($E$4:E13,$B$4:B13,$B13)/SUMIFS($E$4:$E$1048576,$B$4:$B$1048576,$B13)) -> 1 | G13: =IF($C13="","",VLOOKUP($F13,Tabla5[],2,1)) -> C
B14: 02 - BUJIAS | C14: 300420 | D14: BUJIA | E14: 7 | F14: =IF($B14="","",SUMIFS($E$4:E14,$B$4:B14,$B14)/SUMIFS($E$4:$E$1048576,$B$4:$B$1048576,$B14)) -> 0.35 | G14: =IF($C14="","",VLOOKUP($F14,Tabla5[],2,1)) -> A
B15: 02 - BUJIAS | C15: 300012 | D15: FOCO FARO (12V35W/35W) | E15: 7 | F15: =IF($B15="","",SUMIFS($E$4:E15,$B$4:B15,$B15)/SUMIFS($E$4:$E$1048576,$B$4:$B$1048576,$B15)) -> 0.7 | G15: =IF($C15="","",VLOOKUP($F15,Tabla5[],2,1)) -> B
... B1054: 15 - MISCELANEOS | C1054: 300193 | D1054: ASIENTO DOBLE | E1054: 1 | F1054: =IF($B1054="","",SUMIFS($E$4:E1054,$B$4:B1054,$B1054)/SUMIFS($E$4:$E$1048576,$B$4:$B$1048576,$B1054)) -> 1 | G1054: =IF($C1054="","",VLOOKUP($F1054,Tabla5[],2,1)) -> C
F1055: =IF($B1055="","",SUMIFS($E$4:E1055,$B$4:B1055,$B1055)/SUMIFS($E$4:$E$1048576,$B$4:$B$1048576,$B1055)) | G1055: =IF($C1055="","",VLOOKUP($F1055,Tabla5[],2,1))
F1056: =IF($B1056="","",SUMIFS($E$4:E1056,$B$4:B1056,$B1056)/SUMIFS($E$4:$E$1048576,$B$4:$B$1048576,$B1056)) | G1056: =IF($C1056="","",VLOOKUP($F1056,Tabla5[],2,1))
F1057: =IF($B1057="","",SUMIFS($E$4:E1057,$B$4:B1057,$B1057)/SUMIFS($E$4:$E$1048576,$B$4:$B$1048576,$B1057)) | G1057: =IF($C1057="","",VLOOKUP($F1057,Tabla5[],2,1))
F1058: =IF($B1058="","",SUMIFS($E$4:E1058,$B$4:B1058,$B1058)/SUMIFS($E$4:$E$1048576,$B$4:$B$1048576,$B1058)) | G1058: =IF($C1058="","",VLOOKUP($F1058,Tabla5[],2,1))
F1059: =IF($B1059="","",SUMIFS($E$4:E1059,$B$4:B1059,$B1059)/SUMIFS($E$4:$E$1048576,$B$4:$B$1048576,$B1059)) | G1059: =IF($C1059="","",VLOOKUP($F1059,Tabla5[],2,1))
F1060: =IF($B1060="","",SUMIFS($E$4:E1060,$B$4:B1060,$B1060)/SUMIFS($E$4:$E$1048576,$B$4:$B$1048576,$B1060)) | G1060: =IF($C1060="","",VLOOKUP($F1060,Tabla5[],2,1))
F1061: =IF($B1061="","",SUMIFS($E$4:E1061,$B$4:B1061,$B1061)/SUMIFS($E$4:$E$1048576,$B$4:$B$1048576,$B1061)) | G1061: =IF($C1061="","",VLOOKUP($F1061,Tabla5[],2,1))
F1062: =IF($B1062="","",SUMIFS($E$4:E1062,$B$4:B1062,$B1062)/SUMIFS($E$4:$E$1048576,$B$4:$B$1048576,$B1062)) | G1062: =IF($C1062="","",VLOOKUP($F1062,Tabla5[],2,1))
F1063: =IF($B1063="","",SUMIFS($E$4:E1063,$B$4:B1063,$B1063)/SUMIFS($E$4:$E$1048576,$B$4:$B$1048576,$B1063)) | G1063: =IF($C1063="","",VLOOKUP($F1063,Tabla5[],2,1))
F1064: =IF($B1064="","",SUMIFS($E$4:E1064,$B$4:B1064,$B1064)/SUMIFS($E$4:$E$1048576,$B$4:$B$1048576,$B1064)) | G1064: =IF($C1064="","",VLOOKUP($F1064,Tabla5[],2,1))
F1065: =IF($B1065="","",SUMIFS($E$4:E1065,$B$4:B1065,$B1065)/SUMIFS($E$4:$E$1048576,$B$4:$B$1048576,$B1065)) | G1065: =IF($C1065="","",VLOOKUP($F1065,Tabla5[],2,1))
F1066: =IF($B1066="","",SUMIFS($E$4:E1066,$B$4:B1066,$B1066)/SUMIFS($E$4:$E$1048576,$B$4:$B$1048576,$B1066)) | G1066: =IF($C1066="","",VLOOKUP($F1066,Tabla5[],2,1))
... F5000: =IF($B5000="","",SUMIFS($E$4:E5000,$B$4:B5000,$B5000)/SUMIFS($E$4:$E$1048576,$B$4:$B$1048576,$B5000)) | G5000: =IF($C5000="","",VLOOKUP($F5000,Tabla5[],2,1))

Sheet Kardex
B2: DETALLE DEL KARDEX
B4: MANUAL | C4: ES UN DATO QUE SE DEBE INGRESAR EN FORMA MANUAL
B6: AUTOMÁTICO | C6: ES UN DATO QUE SALE EN FORMA AUTOMÁTICA, YA SEA DE LAS TABLAS O POR FÓRMULA
B8: MANUAL | C8: MANUAL | D8: MANUAL | E8: DATOS SALEN EN FORMA AUTOMÁTICA CON LAS TABLAS | J8: AUTOMÁTICO | K8: AUTOMÁTICO
B10: Fecha del movimiento | C10: Nro de Pedido | D10: Código del producto | E10: Producto | F10: Unidad de medida | G10: Categoría | H10: Tipo de movimiento | I10: Cantidad | J10: Mes | K10: Año
B11: 43126 | C11: OT-47275 | D11: 300146 | E11: ELEMENTO DEL FILTRO DE AIRE | F11: UN | G11: 03 - FILTROS | H11: SALIDA | I11: -13 | J11: =VLOOKUP(MONTH(Tabla7[[#This Row],[Fecha del movimiento]]),Tablas!$O$4:$P$15,2,0) -> Ene | K11: =YEAR(Tabla7[[#This Row],[Fecha del movimiento]]) -> 2018
B12: 43191 | C12: OT-35844 | D12: 300483 | E12: BOTON INTERRUPTOR DE DIRECCION | F12: UN | G12: 10 - PALANCAS Y CHICOTES | H12: SALIDA | I12: -13 | J12: =VLOOKUP(MONTH(Tabla7[[#This Row],[Fecha del movimiento]]),Tablas!$O$4:$P$15,2,0) -> Abr | K12: =YEAR(Tabla7[[#This Row],[Fecha del movimiento]]) -> 2018
B13: 43175 | C13: OT-13303 | D13: 300390 | E13: JUEGO DE MANGUERA DE FRENO DIABOLO | F13: UN | G13: 11 - LLANTAS Y HULES | H13: SALIDA | I13: -17 | J13: =VLOOKUP(MONTH(Tabla7[[#This Row],[Fecha del movimiento]]),Tablas!$O$4:$P$15,2,0) -> Mar | K13: =YEAR(Tabla7[[#This Row],[Fecha del movimiento]]) -> 2018
B14: 43136 | C14: OT-26573 | D14: 300016 | E14: MANIJA DE FRENO DELANTERO | F14: UN | G14: 10 - PALANCAS Y CHICOTES | H14: SALIDA | I14: -20 | J14: =VLOOKUP(MONTH(Tabla7[[#This Row],[Fecha del movimiento]]),Tablas!$O$4:$P$15,2,0) -> Feb | K14: =YEAR(Tabla7[[#This Row],[Fecha del movimiento]]) -> 2018
B15: 43331 | C15: OT-23889 | D15: 300444 | E15: BASE DE VELOCIMETRO | F15: UN | G15: 08 - ELECTRICO | H15: SALIDA | I15: -20 | J15: =VLOOKUP(MONTH(Tabla7[[#This Row],[Fecha del movimiento]]),Tablas!$O$4:$P$15,2,0) -> Ago | K15: =YEAR(Tabla7[[#This Row],[Fecha del movimiento]]) -> 2018
B16: 43121 | C16: OT-12878 | D16: 300049 | E16: LLANTA TRASERA 3.00/R18 | F16: UN | G16: 11 - LLANTAS Y HULES | H16: INGRESO | I16: 13 | J16: =VLOOKUP(MONTH(Tabla7[[#This Row],[Fecha del movimiento]]),Tablas!$O$4:$P$15,2,0) -> Ene | K16: =YEAR(Tabla7[[#This Row],[Fecha del movimiento]]) -> 2018
B17: 43161 | C17: OT-41832 | D17: 300453 | E17: PLATAFORMA POSAPIES | F17: UN | G17: 05 - COLISION | H17: SALIDA | I17: -5 | J17: =VLOOKUP(MONTH(Tabla7[[#This Row],[Fecha del movimiento]]),Tablas!$O$4:$P$15,2,0) -> Mar | K17: =YEAR(Tabla7[[#This Row],[Fecha del movimiento]]) -> 2018
B18: 43299 | C18: OT-16232 | D18: 300361 | E18: ELEMENTO DEL FILTRO DE AIRE | F18: UN | G18: 03 - FILTROS | H18: SALIDA | I18: -5 | J18: =VLOOKUP(MONTH(Tabla7[[#This Row],[Fecha del movimiento]]),Tablas!$O$4:$P$15,2,0) -> Jul | K18: =YEAR(Tabla7[[#This Row],[Fecha del movimiento]]) -> 2018
B19: 43123 | C19: OT-46237 | D19: 300501 | E19: AMORTIGUADOR DELANTERO DER | F19: UN | G19: 06 - AMORTIGUADORES | H19: SALIDA | I19: -14 | J19: =VLOOKUP(MONTH(Tabla7[[#This Row],[Fecha del movimiento]]),Tablas!$O$4:$P$15,2,0) -> Ene | K19: =YEAR(Tabla7[[#This Row],[Fecha del movimiento]]) -> 2018
B20: 43156 | C20: OT-14868 | D20: 300653 | E20: EJE DEL PARADOR CENTRAL | F20: UN | G20: 07 - PEDALES Y POSAPIES | H20: INGRESO | I20: 13 | J20: =VLOOKUP(MONTH(Tabla7[[#This Row],[Fecha del movimiento]]),Tablas!$O$4:$P$15,2,0) -> Feb | K20: =YEAR(Tabla7[[#This Row],[Fecha del movimiento]]) -> 2018
B21: 43158 | C21: OT-44695 | D21: 300525 | E21: BOTON INTERRUPTOR DE CLAXON | F21: UN | G21: 10 - PALANCAS Y CHICOTES | H21: INGRESO | I21: 11 | J21: =VLOOKUP(MONTH(Tabla7[[#This Row],[Fecha del movimiento]]),Tablas!$O$4:$P$15,2,0) -> Feb | K21: =YEAR(Tabla7[[#This Row],[Fecha del movimiento]]) -> 2018
B22: 43190 | C22: OT-40426 | D22: 300603 | E22: CUBIERTA LATERAL IZQ AZUL | F22: UN | G22: 05 - COLISION | H22: INGRESO | I22: 15 | J22: =VLOOKUP(MONTH(Tabla7[[#This Row],[Fecha del movimiento]]),Tablas!$O$4:$P$15,2,0) -> Mar | K22: =YEAR(Tabla7[[#This Row],[Fecha del movimiento]]) -> 2018
... B5000: 43144 | C5000: OT-24904 | D5000: 301022 | E5000: ENGRANE DE POTENCIA FINAL | F5000: UN | G5000: 13 - TRACCION | H5000: SALIDA | I5000: -11 | J5000: =VLOOKUP(MONTH(Tabla7[[#This Row],[Fecha del movimiento]]),Tablas!$O$4:$P$15,2,0) -> Feb | K5000: =YEAR(Tabla7[[#This Row],[Fecha del movimiento]]) -> 2018

Sheet Tablas
B1: MAESTRO DE PRODUCTOS | K1: MAESTRO DE CATEGORÍAS | M1: MAESTRO DE TIPO DE CLIENTES | O1: MESES | S1: AÑOS | U1: ABC ROTACIÓN | X1: POLÍTICAS DE INVENTARIO
